BEGIN:VCALENDAR
VERSION:2.0
PRODID:-//La MEUP - ECPv6.15.20//NONSGML v1.0//EN
CALSCALE:GREGORIAN
METHOD:PUBLISH
X-WR-CALNAME:La MEUP
X-ORIGINAL-URL:https://www.lameup.com
X-WR-CALDESC:Évènements pour La MEUP
REFRESH-INTERVAL;VALUE=DURATION:PT1H
X-Robots-Tag:noindex
X-PUBLISHED-TTL:PT1H
BEGIN:VTIMEZONE
TZID:Europe/Paris
BEGIN:DAYLIGHT
TZOFFSETFROM:+0100
TZOFFSETTO:+0200
TZNAME:CEST
DTSTART:20250330T010000
END:DAYLIGHT
BEGIN:STANDARD
TZOFFSETFROM:+0200
TZOFFSETTO:+0100
TZNAME:CET
DTSTART:20251026T010000
END:STANDARD
BEGIN:DAYLIGHT
TZOFFSETFROM:+0100
TZOFFSETTO:+0200
TZNAME:CEST
DTSTART:20260329T010000
END:DAYLIGHT
BEGIN:STANDARD
TZOFFSETFROM:+0200
TZOFFSETTO:+0100
TZNAME:CET
DTSTART:20261025T010000
END:STANDARD
BEGIN:DAYLIGHT
TZOFFSETFROM:+0100
TZOFFSETTO:+0200
TZNAME:CEST
DTSTART:20270328T010000
END:DAYLIGHT
BEGIN:STANDARD
TZOFFSETFROM:+0200
TZOFFSETTO:+0100
TZNAME:CET
DTSTART:20271031T010000
END:STANDARD
END:VTIMEZONE
BEGIN:VEVENT
DTSTART;TZID=Europe/Paris:20260606T100000
DTEND;TZID=Europe/Paris:20260606T170000
DTSTAMP:20260424T182329
CREATED:20260417T131403Z
LAST-MODIFIED:20260421T160149Z
UID:42845-1780740000-1780765200@www.lameup.com
SUMMARY:Partez à l'aventure au pôle !
DESCRIPTION:🧭 Cap au Pôle : Une journée d’aventure et de partage à Étampes !\n📍 Informations Pratiques\nOù ? 10 chemin du Larris\, 91150 Étampes \nAccès par la route :  \nN20 : sortie Étampes\, St Pierre / Guinette. La D91 passe à proximité du site et à une jonction avec la N20 qui permet un accès rapide. \nLe parking dispose de places destinées aux personnes à mobilité réduite. \nAccès par les transport en commun : \nTER Gare d’Étampes\, 30mn depuis la gare d’Austerlitz \nRER C\, gare d’Étampes\, 1h depuis la gare d’Austerlitz \nPuis\, prendre le bus ligne 913-01 (Guinette)\, la 913-02 (Croix de Vernailles) ou la 913-03 (Circulaire) et descendre à l’arrêt « LEP Louis Blériot – Vallée Collin » \n  \n \nRejoignez-nous pour tracer la route vers un avenir plus solidaire et durable !
URL:https://www.lameup.com/event/partez-a-laventure-au-pole/
LOCATION:Pôle Économie Solidaire d’Étampes\, 10 chemin du larris\, Etampes\, 91150\, France
CATEGORIES:événement,Pôle d'Etampes
ATTACH;FMTTYPE=image/png:https://www.lameup.com/wp-content/uploads/2026/04/Programme-Cap-au-Pole-v3-scaled.png
END:VEVENT
END:VCALENDAR